BEGIN:VCALENDAR
VERSION:2.0
PRODID:-//supatix - ECPv4.2.7//NONSGML v1.0//EN
CALSCALE:GREGORIAN
METHOD:PUBLISH
X-WR-CALNAME:supatix
X-ORIGINAL-URL:https://www.supatix.com.au
X-WR-CALDESC:Events for supatix
BEGIN:VEVENT
DTSTART;TZID=Australia/Melbourne:20180228T200000
DTEND;TZID=Australia/Melbourne:20180228T200000
DTSTAMP:20180226T165504
CREATED:20180208T031423
LAST-MODIFIED:20180220T004218
UID:1015-1519848000-1519848000@www.supatix.com.au
SUMMARY:Book of Mormon Sydney - Wed 28 February
DESCRIPTION:\n\tStalls is on the ground level\n\tDress circle is the second level\n\tGrand circle is the third level\n\tTickets are in PDF format and will be emailed upon payment\n\tFor a more detailed seating plan and virtual tour of the Sydney Lyric Theatre\, please click HERE\n\tPrice is per ticket\n\tFace value ranges between $80 and $97 per ticket\n\tTickets are guaranteed to be located side by side\n\tAll tickets are covered by our FanProtect Guarantee and are purchased subject to our terms and conditions.\n\n
URL:https://www.supatix.com.au/ticket/book-of-mormon-sydney-wed-28-february/
LOCATION:NSW\, 2009\, Australia
GEO:-33.8687895;151.1942171
CATEGORIES:Book of Mormon Tickets Sydney
ATTACH;FMTTYPE=image/png:https://www.supatix.com.au/wp-content/uploads/2018/02/ryan-bondy.png
END:VEVENT
BEGIN:VEVENT
DTSTART;TZID=Australia/Melbourne:20180301T200000
DTEND;TZID=Australia/Melbourne:20180301T200000
DTSTAMP:20180226T165504
CREATED:20180208T031952
LAST-MODIFIED:20180220T113801
UID:1021-1519934400-1519934400@www.supatix.com.au
SUMMARY:Book of Mormon Sydney - Thu 1 March
DESCRIPTION:\n\tStalls is on the ground level\n\tDress circle is the second level\n\tGrand circle is the third level\n\tTickets are in PDF format and will be emailed upon payment\n\tFor a more detailed seating plan and virtual tour of the Sydney Lyric Theatre\, please click HERE\n\tPrice is per ticket\n\tFace value ranges between $80 and $97 per ticket\n\tTickets are guaranteed to be located side by side\n\tAll tickets are covered by our FanProtect Guarantee and are purchased subject to our terms and conditions\n\n\n\n \n\n 
URL:https://www.supatix.com.au/ticket/book-of-mormon-sydney-thu-1-march/
LOCATION:NSW\, 2009\, Australia
GEO:-33.8687895;151.1942171
CATEGORIES:Book of Mormon Tickets Sydney
ATTACH;FMTTYPE=image/jpeg:https://www.supatix.com.au/wp-content/uploads/2018/02/cast.jpg
END:VEVENT
BEGIN:VEVENT
DTSTART;TZID=Australia/Melbourne:20180302T200000
DTEND;TZID=Australia/Melbourne:20180302T200000
DTSTAMP:20180226T165504
CREATED:20180208T045217
LAST-MODIFIED:20180208T045217
UID:1048-1520020800-1520020800@www.supatix.com.au
SUMMARY:Book of Mormon Sydney - Fri 2 March
DESCRIPTION:\n\tStalls is on the ground level\n\tDress circle is the second level\n\tGrand circle is the third level\n\tTickets are in PDF format and will be emailed upon payment\n\tFor a more detailed seating plan and virtual tour of the Sydney Lyric Theatre\, please click HERE\n\tPrice is per ticket\n\tFace value ranges between $80 and $97 per ticket\n\tTickets are guaranteed to be located side by side\n\tAll tickets are covered by our FanProtect Guarantee and are purchased subject to our terms and conditions\n\n\n\n 
URL:https://www.supatix.com.au/ticket/book-of-mormon-sydney-fri-2-march/
LOCATION:NSW\, 2009\, Australia
GEO:-33.8687895;151.1942171
CATEGORIES:Book of Mormon Tickets Sydney
ATTACH;FMTTYPE=image/png:https://www.supatix.com.au/wp-content/uploads/2018/02/gallery-1.png
END:VEVENT
BEGIN:VEVENT
DTSTART;TZID=Australia/Melbourne:20180303T140000
DTEND;TZID=Australia/Melbourne:20180303T140000
DTSTAMP:20180226T165504
CREATED:20180208T045937
LAST-MODIFIED:20180208T050010
UID:1053-1520085600-1520085600@www.supatix.com.au
SUMMARY:Book of Mormon Sydney - Sat 3 March
DESCRIPTION:\n\tStalls is on the ground level\n\tDress circle is the second level\n\tGrand circle is the third level\n\tTickets are in PDF format and will be emailed upon payment\n\tFor a more detailed seating plan and virtual tour of the Sydney Lyric Theatre\, please click HERE\n\tPrice is per ticket\n\tFace value ranges between $80 and $97 per ticket\n\tTickets are guaranteed to be located side by side\n\tAll tickets are covered by our FanProtect Guarantee and are purchased subject to our terms and conditions\n\n\n\n 
URL:https://www.supatix.com.au/ticket/book-of-mormon-sydney-sat-3-march/
LOCATION:NSW\, 2009\, Australia
GEO:-33.8687895;151.1942171
CATEGORIES:Book of Mormon Tickets Sydney
ATTACH;FMTTYPE=image/png:https://www.supatix.com.au/wp-content/uploads/2018/02/gallery-1.png
END:VEVENT
BEGIN:VEVENT
DTSTART;TZID=Australia/Melbourne:20180303T200000
DTEND;TZID=Australia/Melbourne:20180303T200000
DTSTAMP:20180226T165504
CREATED:20180208T050618
LAST-MODIFIED:20180226T045927
UID:1060-1520107200-1520107200@www.supatix.com.au
SUMMARY:Book of Mormon Sydney - Sat 3 March
DESCRIPTION:\n\tStalls is on the ground level\n\tDress circle is the second level\n\tGrand circle is the third level\n\tTickets are in PDF format and will be emailed upon payment\n\tFor a more detailed seating plan and virtual tour of the Sydney Lyric Theatre\, please click HERE\n\tPrice is per ticket\n\tFace value ranges between $80 and $97 per ticket\n\tTickets are guaranteed to be located side by side\n\tAll tickets are covered by our FanProtect Guarantee and are purchased subject to our terms and conditions\n\n\n\n 
URL:https://www.supatix.com.au/ticket/book-of-mormon-sydney-sat-3-march-2/
LOCATION:NSW\, 2009\, Australia
GEO:-33.8687895;151.1942171
CATEGORIES:Book of Mormon Tickets Sydney
ATTACH;FMTTYPE=image/png:https://www.supatix.com.au/wp-content/uploads/2018/02/gallery-2.png
END:VEVENT
BEGIN:VEVENT
DTSTART;TZID=Australia/Melbourne:20180304T183000
DTEND;TZID=Australia/Melbourne:20180304T183000
DTSTAMP:20180226T165504
CREATED:20180208T051934
LAST-MODIFIED:20180218T063715
UID:1067-1520188200-1520188200@www.supatix.com.au
SUMMARY:Book of Mormon Sydney - Sun 4 March
DESCRIPTION:\n\tStalls is on the ground level\n\tDress circle is the second level\n\tGrand circle is the third level\n\tTickets are in PDF format and will be emailed upon payment\n\tFor a more detailed seating plan and virtual tour of the Sydney Lyric Theatre\, please click HERE\n\tPrice is per ticket\n\tFace value ranges between $80 and $97 per ticket\n\tTickets are guaranteed to be located side by side\n\tAll tickets are covered by our FanProtect Guarantee and are purchased subject to our terms and conditions\n\n\n\n 
URL:https://www.supatix.com.au/ticket/book-of-mormon-sydney-sun-4-march/
LOCATION:NSW\, 2009\, Australia
GEO:-33.8687895;151.1942171
CATEGORIES:Book of Mormon Tickets Sydney
ATTACH;FMTTYPE=image/png:https://www.supatix.com.au/wp-content/uploads/2018/02/gallery-3.png
END:VEVENT
BEGIN:VEVENT
DTSTART;TZID=Australia/Melbourne:20180306T200000
DTEND;TZID=Australia/Melbourne:20180306T200000
DTSTAMP:20180226T165504
CREATED:20180208T055403
LAST-MODIFIED:20180208T060236
UID:1074-1520366400-1520366400@www.supatix.com.au
SUMMARY:Book of Mormon Sydney - Tue 6 March
DESCRIPTION:\n\tStalls is on the ground level\n\tDress circle is the second level\n\tGrand circle is the third level\n\tTickets are in PDF format and will be emailed upon payment\n\tFor a more detailed seating plan and virtual tour of the Sydney Lyric Theatre\, please click HERE\n\tPrice is per ticket\n\tFace value ranges between $80 and $97 per ticket\n\tTickets are guaranteed to be located side by side\n\tAll tickets are covered by our FanProtect Guarantee and are purchased subject to our terms and conditions\n\n\n\n 
URL:https://www.supatix.com.au/ticket/book-of-mormon-sydney-tue-6-march/
LOCATION:NSW\, 2009\, Australia
GEO:-33.8687895;151.1942171
CATEGORIES:Book of Mormon Tickets Sydney
ATTACH;FMTTYPE=image/png:https://www.supatix.com.au/wp-content/uploads/2018/02/gallery-4.png
END:VEVENT
BEGIN:VEVENT
DTSTART;TZID=Australia/Melbourne:20180307T200000
DTEND;TZID=Australia/Melbourne:20180307T200000
DTSTAMP:20180226T165504
CREATED:20180208T060742
LAST-MODIFIED:20180208T060742
UID:1083-1520452800-1520452800@www.supatix.com.au
SUMMARY:Book of Mormon Sydney - Wed 7 March
DESCRIPTION:\n\tStalls is on the ground level\n\tDress circle is the second level\n\tGrand circle is the third level\n\tTickets are in PDF format and will be emailed upon payment\n\tFor a more detailed seating plan and virtual tour of the Sydney Lyric Theatre\, please click HERE\n\tPrice is per ticket\n\tFace value ranges between $80 and $97 per ticket\n\tTickets are guaranteed to be located side by side\n\tAll tickets are covered by our FanProtect Guarantee and are purchased subject to our terms and conditions\n\n\n\n 
URL:https://www.supatix.com.au/ticket/book-of-mormon-sydney-wed-7-march/
LOCATION:NSW\, 2009\, Australia
GEO:-33.8687895;151.1942171
CATEGORIES:Book of Mormon Tickets Sydney
ATTACH;FMTTYPE=image/png:https://www.supatix.com.au/wp-content/uploads/2018/02/gallery-5.png
END:VEVENT
BEGIN:VEVENT
DTSTART;TZID=Australia/Melbourne:20180308T200000
DTEND;TZID=Australia/Melbourne:20180308T200000
DTSTAMP:20180226T165504
CREATED:20180208T061158
LAST-MODIFIED:20180208T061158
UID:1088-1520539200-1520539200@www.supatix.com.au
SUMMARY:Book of Mormon Sydney - Thu 8 March
DESCRIPTION:\n\tStalls is on the ground level\n\tDress circle is the second level\n\tGrand circle is the third level\n\tTickets are in PDF format and will be emailed upon payment\n\tFor a more detailed seating plan and virtual tour of the Sydney Lyric Theatre\, please click HERE\n\tPrice is per ticket\n\tFace value ranges between $80 and $97 per ticket\n\tTickets are guaranteed to be located side by side\n\tAll tickets are covered by our FanProtect Guarantee and are purchased subject to our terms and conditions\n\n\n\n 
URL:https://www.supatix.com.au/ticket/book-of-mormon-sydney-thu-8-march/
LOCATION:NSW\, 2009\, Australia
GEO:-33.8687895;151.1942171
CATEGORIES:Book of Mormon Tickets Sydney
ATTACH;FMTTYPE=image/png:https://www.supatix.com.au/wp-content/uploads/2018/02/gallery-6.png
END:VEVENT
BEGIN:VEVENT
DTSTART;TZID=Australia/Melbourne:20180317T193000
DTEND;TZID=Australia/Melbourne:20180317T193000
DTSTAMP:20180226T165504
CREATED:20180216T223158
LAST-MODIFIED:20180216T225100
UID:1155-1521315000-1521315000@www.supatix.com.au
SUMMARY:Bruno Mars Sydney - Sat 17 March
DESCRIPTION:\n\tTickets are in PDF format and will be emailed upon payment\n\tPrice is per ticket\n\tFace value ranges between $101.75 and $142.50 per ticket\n\tTickets are guaranteed to be located side by side\n\tAll tickets are covered by our FanProtect Guarantee and are purchased subject to our terms and conditions.\n\n
URL:https://www.supatix.com.au/ticket/bruno-mars-sydney-sat-17-march/
LOCATION: Sydney Olympic Park\, NSW\, 2127\, Australia
GEO:-33.84801;151.06488
CATEGORIES:Bruno Mars Tickets Sydney
ATTACH;FMTTYPE=image/jpeg:https://www.supatix.com.au/wp-content/uploads/2018/02/il_570xN.1415560158_9gpk.jpg
END:VEVENT
END:VCALENDAR